BEGIN:VCALENDAR
VERSION:2.0
PRODID:-//BubDesk - ECPv4.6.23//NONSGML v1.0//EN
CALSCALE:GREGORIAN
METHOD:PUBLISH
X-WR-CALNAME:BubDesk
X-ORIGINAL-URL:http://bubdesk.com.au
X-WR-CALDESC:Events for BubDesk
BEGIN:VEVENT
DTSTART;TZID=UTC+0:20180129T080000
DTEND;TZID=UTC+0:20181231T163000
DTSTAMP:20190301T105721
CREATED:20171119T081239Z
LAST-MODIFIED:20180123T140445Z
UID:29323-1517212800-1546273800@bubdesk.com.au
SUMMARY:Private Tour Request
DESCRIPTION:We run regular group tours at most of the BubDesk branches\, but if the date and time doesn’t suit\, or you simply can’t wait to get started\, feel free to book a private tour at a time more convenient. \n\n\n    /* Color */\n    .bookly-form-group > label\,\n    .bookly-label-error\,\n    .bookly-progress-tracker > .active\,\n    .bookly-form .picker__nav--next\,\n    .bookly-form .pickadate__nav--prev\,\n    .bookly-form .picker__day:hover\,\n    .bookly-form .picker__day--selected:hover\,\n    .bookly-form .picker--opened .picker__day--selected\,\n    .bookly-form .picker__button--clear\,\n    .bookly-form .picker__button--today\,\n    .bookly-columnizer .bookly-hour span.bookly-waiting-list {\n        color: #009d9d!important;\n    }\n    /* Background */\n    .bookly-progress-tracker > .active .step\,\n    .bookly-form .picker__frame\,\n    .bookly-service-step .bookly-week-days label\,\n    .bookly-repeat-step .bookly-week-days label\,\n    .bookly-columnizer .bookly-hour:hover .bookly-hour-icon span\,\n    .bookly-btn\,\n    .bookly-btn:active\,\n    .bookly-btn:focus\,\n    .bookly-btn:hover\,\n    .bookly-btn-submit\,\n    .bookly-round\,\n    .bookly-square {\n        background-color: #009d9d!important;\n    }\n    .bookly-triangle {\n        border-bottom-color: #009d9d!important;\n    }\n    /* Border */\n    .bookly-form input[type="text"].bookly-error\,\n    .bookly-form input[type="password"].bookly-error\,\n    .bookly-form select.bookly-error\,\n    .bookly-form textarea.bookly-error\,\n    .bookly-extra-step div.bookly-extras-thumb.bookly-extras-selected {\n        border: 2px solid #009d9d!important;\n    }\n    /* Other */\n    .bookly-form .picker__header { border-bottom: 1px solid #009d9d!important; }\n    .bookly-form .picker__nav--next:before { border-left:  6px solid #009d9d!important; }\n    .bookly-form .picker__nav--prev:before { border-right: 6px solid #009d9d!important; }\n    .bookly-service-step .bookly-week-days label.active\, .bookly-repeat-step .bookly-week-days label.active { background: #009d9d url(http://bubdesk.com.au/wp-content/plugins/appointment-booking/frontend/resources/images/checkbox.png) 0 0 no-repeat!important; }\n    .bookly-pagination > li.active\, .bookly-columnizer .bookly-day\, .bookly-schedule-date { background: #009d9d!important; border: 1px solid #009d9d!important; }\n    .bookly-columnizer .bookly-hour:hover { border: 2px solid #009d9d!important; color: #009d9d!important; }\n    .bookly-columnizer .bookly-hour:hover .bookly-hour-icon { background: none; border: 2px solid #009d9d!important; color: #009d9d!important; }\n\n    \n\n\n    (function (win\, fn) {\n        var done = false\, top = true\,\n            doc = win.document\,\n            root = doc.documentElement\,\n            modern = doc.addEventListener\,\n            add = modern ? 'addEventListener' : 'attachEvent'\,\n            rem = modern ? 'removeEventListener' : 'detachEvent'\,\n            pre = modern ? '' : 'on'\,\n            init = function(e) {\n                if (e.type == 'readystatechange') if (doc.readyState != 'complete') return;\n                (e.type == 'load' ? win : doc)[rem](pre + e.type\, init\, false);\n                if (!done) { done = true; fn.call(win\, e.type || e); }\n            }\,\n            poll = function() {\n                try { root.doScroll('left'); } catch(e) { setTimeout(poll\, 50); return; }\n                init('poll');\n            };\n        if (doc.readyState == 'complete') fn.call(win\, 'lazy');\n        else {\n            if (!modern) if (root.doScroll) {\n                try { top = !win.frameElement; } catch(e) { }\n                if (top) poll();\n            }\n            doc[add](pre + 'DOMContentLoaded'\, init\, false);\n            doc[add](pre + 'readystatechange'\, init\, false);\n            win[add](pre + 'load'\, init\, false);\n        }\n    })(window\, function() {\n        window.bookly({\n            ajaxurl                 : "http:\/\/bubdesk.com.au\/wp-admin\/admin-ajax.php"\,\n            form_id                 : "5c791011c3a43"\,\n            attributes              : {"location_id":0\,"category_id":1\,"service_id":0\,"staff_member_id":0\,"hide_categories":false\,"hide_services":false\,"hide_staff_members":false\,"hide_date":false\,"hide_week_days":false\,"hide_time_range":false\,"show_number_of_persons":false\,"show_service_duration":false\,"hide_service_duration":true\,"hide_locations":true\,"hide_quantity":true\,"location_custom_settings":false}\,\n            status                  : {"booking":"new"}\,\n            errors                  : {"session_error":"Session error."\,"form_id_error":"Form ID error."\,"cart_item_not_available":"The selected time is not available anymore. Please\, choose another time slot."\,"pay_locally_not_available":"Pay locally is not available."\,"invalid_gateway":"Invalid gateway."\,"payment_error":"Error."\,"incorrect_username_password":"Incorrect username or password."}\,\n            start_of_week           : 1\,\n            show_calendar           : 0\,\n            use_client_time_zone    : 0\,\n            required                : {"staff":0}\,\n            skip_steps              : {"service_part1":0\,"service_part2":0\,"extras":1\,"repeat":1}\,\n            date_format             : "mmmm d\, yyyy"\,\n            final_step_url          : ""\,\n            intlTelInput            : {"enabled":1\,"utils":"http:\/\/bubdesk.com.au\/wp-content\/plugins\/appointment-booking\/frontend\/resources\/js\/intlTelInput.utils.js"\,"country":"au"}\,\n            woocommerce             : {"enabled":0\,"cart_url":""}\,\n            update_details_dialog   : 1\,\n            cart                    : {"enabled":0}\,\n            facebook                : {"enabled":false\,"appId":""}\,\n            time_slots_wide         : false\,\n            google_maps             : {"enabled":0\,"api_key":false}\,\n            is_rtl                  : 0        });\n    });\n\n\n\n
URL:http://bubdesk.com.au/events/private-tour-request/
ATTACH;FMTTYPE=image/png:http://bubdesk.com.au/wp-content/uploads/2016/08/BubDesk_Dare-to-begin_00117.png
ORGANIZER;CN="BubDesk":MAILTO:info@bubdesk.com.au
END:VEVENT
END:VCALENDAR